BEGIN:VCALENDAR
VERSION:2.0
PRODID://Tingsryds Energi
CALSCALE:GREGORIAN
METHOD:PUBLISH
BEGIN:VEVENT
DTSTAMP:20260419T202155Z
UID:19812@enode.site
DTSTART:20190319T230000Z
DTEND:20190321T230000Z
CLASS:PUBLIC
CREATED:20190320T150336Z
DESCRIPTION:
LAST-MODIFIED:20190320T150531Z
STATUS:CONFIRMED
SUMMARY:Torsdag den 21/3 är kontoret obemannat på grund av utbildning! Vi
 d brådskande ärenden kontakta kommunens växel 0477-441 00. 
URL;VALUE=URI:/sv/c/informationsruta/e/torsdag-den-213-ar-kontoret-obemanna
 t-pa-grund-av-utbildning-vid-bradskande-arenden-kontakta-kommunens-vaxel-0
 477-441-00
END:VEVENT
BEGIN:VEVENT
DTSTAMP:20260419T202155Z
UID:20776@enode.site
DTSTART:20190626T220000Z
DTEND:20190627T220000Z
CLASS:PUBLIC
CREATED:20190627T095832Z
DESCRIPTION:
LAST-MODIFIED:20190627T095832Z
STATUS:CONFIRMED
SUMMARY:Vi vill önska alla våra kunder en riktigt härlig sommar!!
URL;VALUE=URI:/sv/c/informationsruta/e/vi-vill-onska-alla-vara-kunder-en-ri
 ktigt-harlig-sommar
END:VEVENT
BEGIN:VEVENT
DTSTAMP:20260419T202155Z
UID:18578@enode.site
DTSTART:20181115T230000Z
DTEND:20181119T170000Z
CLASS:PUBLIC
CREATED:20181116T072827Z
DESCRIPTION:<p>På måndag <strong>19/11 kl 08.00-16.00</strong> kommer vi&
 nbsp\;att avbryta värmeleveransen i området kring Torggatan i Tingsryd p
 å grund av läckage på fjärrvärmenätet\,&nbsp\;<a href="https://s3-eu
 -west-1.amazonaws.com/static.wm3.se/sites/525/media/242725_medium_avst%C3%
 A4ng181119.jpg?1542353550">se karta över berört område.</a></p>\n\n<p>V
 i ber er ha överseende med dessa åtgärder.</p>\n\n<p>Hur kommer jag att
  drabbas av avbrottet?</p>\n\n<p>- Det kommer enbart kallvatten ur varmvat
 tenkranen</p>\n\n<p>- Möjligen kommer det att bli lite kallare inomhus</p
 >\n\n<p>Har ni några frågor&nbsp\;som berör avbrottet än ni välkomna 
 att kontakta någon av våra drifttekniker enligt nedan.</p>\n\n<table bor
 der="0" cellpadding="1" cellspacing="1">\n	<tbody>\n		<tr>\n			<td>Nisse R
 önn</td>\n			<td>tfn 070-274 42 14</td>\n		</tr>\n		<tr>\n			<td>Andréas
  Mann</td>\n			<td>tfn 070-274 45 78</td>\n		</tr>\n		<tr>\n			<td>Robin H
 iltunen</td>\n			<td>tfn 072-889 20 71</td>\n		</tr>\n	</tbody>\n</table>\
 n
LAST-MODIFIED:20181116T073936Z
STATUS:CONFIRMED
SUMMARY:OBS! Avstängning fjärrvärmeleverans måndag 19/11! Läs även me
 r nedan.
URL;VALUE=URI:/sv/c/informationsruta/e/obs-avstangning-fjarrvarmeleverans-m
 andag-1911
END:VEVENT
BEGIN:VEVENT
DTSTAMP:20260419T202155Z
UID:18728@enode.site
DTSTART:20181231T230000Z
DTEND:20190114T170000Z
CLASS:PUBLIC
CREATED:20181128T102201Z
DESCRIPTION:<p>Du är välkommen med din gamla julgran till oss den 14 janu
 ari mellan kl 1500-18.00. Du får en Sverigelott som tack för ert bidrag&
 nbsp\;till hållbar uppvärmning. Vi bjuder även på korv och en rundvand
 ring på värmeverket om du är intresserad.</p>\n\n<p>Varmt välkommen!</
 p>\n\n<p>&nbsp\;</p>\n
LAST-MODIFIED:20190107T071942Z
STATUS:CONFIRMED
SUMMARY:Julgransinsamling 14 januari hos oss på Lokgatan 17\, Tingsryd
URL;VALUE=URI:/sv/c/informationsruta/e/julgransinsamling-14-januari-hos-oss
 -pa-lokgatan-17-tingsryd
END:VEVENT
BEGIN:VEVENT
DTSTAMP:20260419T202155Z
UID:20837@enode.site
DTSTART:20190709T220000Z
DTEND:20190711T220000Z
CLASS:PUBLIC
CREATED:20190710T094907Z
DESCRIPTION:
LAST-MODIFIED:20190710T094924Z
STATUS:CONFIRMED
SUMMARY:OBS! Torsdagen den 11/7 stänger vi av varmvattenleveransen i Urshu
 lt pga underhållsarbete!
URL;VALUE=URI:/sv/c/informationsruta/e/obs-torsdagen-den-117-stanger-vi-av-
 varmvattenleveransen-i-urshult-pga-underhallsarbete
END:VEVENT
BEGIN:VEVENT
DTSTAMP:20260419T202155Z
UID:23164@enode.site
DTSTART:20200317T230000Z
DTEND:20200414T220000Z
CLASS:PUBLIC
CREATED:20200318T060236Z
DESCRIPTION:
LAST-MODIFIED:20200318T064309Z
STATUS:CONFIRMED
SUMMARY:På grund av risk för smittspridning undviker vi för närvarande 
 att göra hembesök!
URL;VALUE=URI:/sv/c/informationsruta/e/pa-grund-av-coronasmittan-gor-vi-ing
 a-hembesok-om-det-inte-ar-absolut-nodvandigt
END:VEVENT
BEGIN:VEVENT
DTSTAMP:20260419T202155Z
UID:22295@enode.site
DTSTART:20191218T230000Z
DTEND:20191219T230000Z
CLASS:PUBLIC
CREATED:20191219T094832Z
DESCRIPTION:
LAST-MODIFIED:20191219T094832Z
STATUS:CONFIRMED
SUMMARY:Problem med värmetillförseln i Urshult idag torsdag 19/12\, för 
 mer info\, se nedan
URL;VALUE=URI:/sv/c/problem-med-varmetillforseln-i-urshult/e/problem-med-va
 rmetillforseln-i-urshult-idag-torsdag-1912-for-mer-info-se-nedan
END:VEVENT
BEGIN:VEVENT
DTSTAMP:20260419T202155Z
UID:22296@enode.site
DTSTART:20191218T230000Z
DTEND:20191219T230000Z
CLASS:PUBLIC
CREATED:20191219T095845Z
DESCRIPTION:
LAST-MODIFIED:20191219T111002Z
STATUS:CONFIRMED
SUMMARY:Värmen åter i Urshult!
URL;VALUE=URI:/sv/c/informationsruta/e/for-narvarande-har-vi-tekniska-probl
 em-med-varmetillforseln-i-urshult
END:VEVENT
BEGIN:VEVENT
DTSTAMP:20260419T202155Z
UID:22341@enode.site
DTSTART:20200103T230000Z
DTEND:20200113T180000Z
CLASS:PUBLIC
CREATED:20200104T083459Z
DESCRIPTION:
LAST-MODIFIED:20200104T083459Z
STATUS:CONFIRMED
SUMMARY:OBS! Julgransinsamling måndagen den 13/1 kl 15-19. Välkomna!!
URL;VALUE=URI:/sv/c/informationsruta/e/obs-julgransinsamling-mandagen-den-1
 31-kl-15-19-valkomna
END:VEVENT
BEGIN:VEVENT
DTSTAMP:20260419T202155Z
UID:28576@enode.site
DTSTART:20210328T220000Z
DTEND:20210405T215900Z
CLASS:PUBLIC
CREATED:20210329T055002Z
DESCRIPTION:
LAST-MODIFIED:20210329T055027Z
STATUS:CONFIRMED
SUMMARY:Glad Påsk önskar vi alla våra kunder   !
URL;VALUE=URI:/sv/c/informationsruta/e/glad-pask-onskar-vi-alla-vara-kunder
END:VEVENT
BEGIN:VEVENT
DTSTAMP:20260419T202155Z
UID:27117@enode.site
DTSTART:20200913T220000Z
DTEND:20200917T180000Z
CLASS:PUBLIC
CREATED:20200914T065556Z
DESCRIPTION:
LAST-MODIFIED:20200914T065640Z
STATUS:CONFIRMED
SUMMARY:OBS! Avbrott i fjärrvärmeleveransen i Linneryd på torsdag 17/9 k
 l 07.00-16.00 !
URL;VALUE=URI:/sv/c/informationsruta/e/obs-avbrott-i-fjarrvarmeleveransen-i
 -linneryd-pa-torsdag-179-kl-0700-1600
END:VEVENT
BEGIN:VEVENT
DTSTAMP:20260419T202155Z
UID:26053@enode.site
DTSTART:20200419T220000Z
DTEND:20200423T160000Z
CLASS:PUBLIC
CREATED:20200417T092018Z
DESCRIPTION:
LAST-MODIFIED:20200417T092140Z
STATUS:CONFIRMED
SUMMARY:Avbrott i fjärrvärmeleveransen Torggatan\, norr om Sandgatan i Ti
 ngsryd torsdag 23/4!
URL;VALUE=URI:/sv/c/informationsruta/e/avbrott-i-fjarrvarmeleveransen-torgg
 atan-norr-om-sandgatan-tingsryd-torsdag-234
END:VEVENT
BEGIN:VEVENT
DTSTAMP:20260419T202155Z
UID:26066@enode.site
DTSTART:20200420T220000Z
DTEND:20200518T220000Z
CLASS:PUBLIC
CREATED:20200420T091959Z
DESCRIPTION:
LAST-MODIFIED:20200424T073721Z
STATUS:CONFIRMED
SUMMARY:Ny Upphandling: Entreprenad för fjärrvärmeledningar mm Linneryd.
  Läs mer under Upphandlingar!
URL;VALUE=URI:/sv/c/informationsruta/e/ny-upphandling-entreprenad-for-fjarr
 varmeledningar-mm-linneryd-las-mer-under-aktuella-projekt
END:VEVENT
BEGIN:VEVENT
DTSTAMP:20260419T202155Z
UID:26061@enode.site
DTSTART:20200417T220000Z
DTEND:20200830T220000Z
CLASS:PUBLIC
CREATED:20200417T120829Z
DESCRIPTION:
LAST-MODIFIED:20200701T104952Z
STATUS:CONFIRMED
SUMMARY:På grund av risk för smittspridning undviker vi för närvarande 
 att göra hembesök!
URL;VALUE=URI:/sv/c/informationsruta/e/pa-grund-av-risk-for-smittspridning-
 undviker-vi-for-narvarande-att-gora-hembesok
END:VEVENT
BEGIN:VEVENT
DTSTAMP:20260419T202155Z
UID:26206@enode.site
DTSTART:20200506T220000Z
DTEND:20200511T140000Z
CLASS:PUBLIC
CREATED:20200506T135629Z
DESCRIPTION:
LAST-MODIFIED:20200511T125409Z
STATUS:CONFIRMED
SUMMARY:OBS! Arbetet idag i Urshult\, i området Källstigen-Hasselvägen-S
 kolgatan är något försenat Beräknas vara klart kl 18.00!
URL;VALUE=URI:/sv/c/informationsruta/e/obs-mandagen-den-11-maj-kommer-fjarr
 rvarmetillforseln-i-omradet-kallstigen-hasselvagen-skolgatan-att-vara-brut
 en
END:VEVENT
BEGIN:VEVENT
DTSTAMP:20260419T202155Z
UID:27855@enode.site
DTSTART:20201220T230000Z
DTEND:20210103T230000Z
CLASS:PUBLIC
CREATED:20201221T121505Z
DESCRIPTION:
LAST-MODIFIED:20201221T121505Z
STATUS:CONFIRMED
SUMMARY:En riktigt God Jul och ett Gott Nytt År önskar vi er alla  !
URL;VALUE=URI:/sv/c/informationsruta/e/en-riktigt-god-jul-och-ett-gott-nytt
 -ar-onskar-vi-er-alla
END:VEVENT
BEGIN:VEVENT
DTSTAMP:20260419T202155Z
UID:26499@enode.site
DTSTART:20200614T220000Z
DTEND:20200615T220000Z
CLASS:PUBLIC
CREATED:20200615T050702Z
DESCRIPTION:
LAST-MODIFIED:20200615T050702Z
STATUS:CONFIRMED
SUMMARY:Störningar i fjärrvärmeleveransen i Tingsryd idag måndag 15/6  
 kl 08.00-12.00!
URL;VALUE=URI:/sv/c/storningar-i-fjarrvarmeleveransen-i-tingsryd-idag-manda
 g-15-juni-mellan-kl-0800-1200/e/storningar-i-fjarrvarmeleveransen-i-tingsr
 yd-idag-mandag-156-kl-0800-1200
END:VEVENT
BEGIN:VEVENT
DTSTAMP:20260419T202155Z
UID:26500@enode.site
DTSTART:20200614T220000Z
DTEND:20200615T220000Z
CLASS:PUBLIC
CREATED:20200615T050830Z
DESCRIPTION:
LAST-MODIFIED:20200615T050830Z
STATUS:CONFIRMED
SUMMARY:Störningar i fjärrvärmeleveransen i Tingsryd idag måndag 15/6  
 kl 08.00-12.00!
URL;VALUE=URI:/sv/c/informationsruta/e/storningar-i-fjarrvarmeleveransen-i-
 tingsryd-idag-mandag-156-kl-0800-1200-2020-06-15
END:VEVENT
BEGIN:VEVENT
DTSTAMP:20260419T202155Z
UID:26845@enode.site
DTSTART:20200630T220000Z
DTEND:20200824T215900Z
CLASS:PUBLIC
CREATED:20200701T111558Z
DESCRIPTION:
LAST-MODIFIED:20200701T111700Z
STATUS:CONFIRMED
SUMMARY:Nya upphandlingar ute avseende byggnation Linneryd. Läs mer under 
 Upphandlingar !
URL;VALUE=URI:/sv/c/informationsruta/e/nya-upphandlingar-ute-for-mer-inform
 ation-se-under-rubrik-upphandlingar
END:VEVENT
BEGIN:VEVENT
DTSTAMP:20260419T202155Z
UID:27360@enode.site
DTSTART:20201022T220000Z
DTEND:20201028T120000Z
CLASS:PUBLIC
CREATED:20201022T130635Z
DESCRIPTION:
LAST-MODIFIED:20201022T130635Z
STATUS:CONFIRMED
SUMMARY:OBS! Avbrott i fjärrvärmeleveransen i Väckelsång på onsdag 28/
 10 kl 07.00-13.00 !
URL;VALUE=URI:/sv/c/informationsruta/e/obs-avbrott-i-fjarrvarmeleveransen-i
 -vackelsang-pa-onsdag-2810-kl-0700-1300
END:VEVENT
BEGIN:VEVENT
DTSTAMP:20260419T202155Z
UID:27362@enode.site
DTSTART:20201022T220000Z
DTEND:20201231T230000Z
CLASS:PUBLIC
CREATED:20201023T055544Z
DESCRIPTION:
LAST-MODIFIED:20201023T055544Z
STATUS:CONFIRMED
SUMMARY:Du har väl inte glömt teckna serviceavtal? Ring så berättar vi 
 mer !
URL;VALUE=URI:/sv/c/informationsruta/e/du-har-val-inte-glomt-teckna-service
 avtal-ring-sa-berattar-vi-mer
END:VEVENT
BEGIN:VEVENT
DTSTAMP:20260419T202155Z
UID:27709@enode.site
DTSTART:20201206T230000Z
DTEND:20210103T230000Z
CLASS:PUBLIC
CREATED:20201201T092711Z
DESCRIPTION:
LAST-MODIFIED:20201201T092711Z
STATUS:CONFIRMED
SUMMARY:Du har väl inte glömt att skicka in enkäten ?
URL;VALUE=URI:/sv/c/informationsruta/e/du-har-val-inte-glomt-att-skicka-in-
 enkaten
END:VEVENT
BEGIN:VEVENT
DTSTAMP:20260419T202155Z
UID:27907@enode.site
DTSTART:20210110T230000Z
DTEND:20210227T230000Z
CLASS:PUBLIC
CREATED:20210111T073708Z
DESCRIPTION:
LAST-MODIFIED:20210111T073708Z
STATUS:CONFIRMED
SUMMARY:Ett stort tack till alla er som svarat på enkäten !
URL;VALUE=URI:/sv/c/informationsruta/e/ett-stort-tack-till-alla-er-som-svar
 at-pa-enkaten
END:VEVENT
BEGIN:VEVENT
DTSTAMP:20260419T202155Z
UID:27908@enode.site
DTSTART:20210110T230000Z
DTEND:20210117T230000Z
CLASS:PUBLIC
CREATED:20210111T073829Z
DESCRIPTION:
LAST-MODIFIED:20210111T073829Z
STATUS:CONFIRMED
SUMMARY:På grund av rådande "Corona-läge" måste vi tyvärr ställa in 
 årets julgransinsamling !
URL;VALUE=URI:/sv/c/informationsruta/e/pa-grund-av-radande-corona-lage-mast
 e-vi-tyvarr-stalla-in-arets-julgransinsamling
END:VEVENT
BEGIN:VEVENT
DTSTAMP:20260419T202155Z
UID:27514@enode.site
DTSTART:20201105T230000Z
DTEND:20210530T220000Z
CLASS:PUBLIC
CREATED:20201106T125206Z
DESCRIPTION:
LAST-MODIFIED:20210416T105628Z
STATUS:CONFIRMED
SUMMARY:På grund av risk för smittspridning undviker vi för närvarande 
 att göra hembesök !
URL;VALUE=URI:/sv/c/informationsruta/e/pa-grund-av-risk-for-smittspridning-
 undviker-vi-for-narvarande-att-gora-hembesok-2020-11-06
END:VEVENT
BEGIN:VEVENT
DTSTAMP:20260419T202155Z
UID:28849@enode.site
DTSTART:20210429T220000Z
DTEND:20210501T215800Z
CLASS:PUBLIC
CREATED:20210430T061144Z
DESCRIPTION:
LAST-MODIFIED:20210430T061144Z
STATUS:CONFIRMED
SUMMARY:Glad Valborgsmäss och 1:a maj önskar vi er  !
URL;VALUE=URI:/sv/c/informationsruta/e/glad-valborgsmass-och-1a-maj-onskar-
 vi-er
END:VEVENT
BEGIN:VEVENT
DTSTAMP:20260419T202155Z
UID:30325@enode.site
DTSTART:20211107T230000Z
DTEND:20211114T210000Z
CLASS:PUBLIC
CREATED:20211108T055756Z
DESCRIPTION:
LAST-MODIFIED:20211108T055756Z
STATUS:CONFIRMED
SUMMARY:OBS! Avbrott i fjärrvärmeleveransen i Linneryd på söndag 14/11 
 kl 14.30-18.30\, Läs mer nedan!
URL;VALUE=URI:/sv/c/informationsruta/e/obs-avbrott-i-fjarrvarmeleveransen-i
 -linneryd-pa-sondag-1411-kl-1430-1830-las-mer-nedan
END:VEVENT
BEGIN:VEVENT
DTSTAMP:20260419T202155Z
UID:32534@enode.site
DTSTART:20230306T230000Z
DTEND:20230307T230000Z
CLASS:PUBLIC
CREATED:20230307T150727Z
DESCRIPTION:
LAST-MODIFIED:20230307T150856Z
STATUS:CONFIRMED
SUMMARY:OBS! Avbrott i fjärrvärmeleveransen i Urshult idag\, beräknas va
 ra klart till kl 18.00\, påverkar området Bergvägen-Smedjevägen-Parkv
 ägen
URL;VALUE=URI:/sv/c/problem-med-varmetillforseln-i-urshult/e/obs-avbrott-i-
 fjarrvarmeleveransen-i-urshult-idag-beraknas-vara-klart-till-kl-1800-paver
 kar-omradet-bergvagen-smedjevagen-parkvagen
END:VEVENT
BEGIN:VEVENT
DTSTAMP:20260419T202155Z
UID:32535@enode.site
DTSTART:20230307T151700Z
DTEND:20230307T230000Z
CLASS:PUBLIC
CREATED:20230307T151604Z
DESCRIPTION:
LAST-MODIFIED:20230307T151633Z
STATUS:CONFIRMED
SUMMARY:OBS! För närvarande har vi avbrott i Urshult\, beräknas vara åt
 gärdat senast kl 18.00!
URL;VALUE=URI:/sv/c/informationsruta/e/obs-for-narvarande-har-vi-avbrott-i-
 urshult-beraknas-vara-atgardat-senast-kl-1800
END:VEVENT
BEGIN:VEVENT
DTSTAMP:20260419T202155Z
UID:32609@enode.site
DTSTART:20230321T090900Z
DTEND:20230321T230000Z
CLASS:PUBLIC
CREATED:20230321T090648Z
DESCRIPTION:
LAST-MODIFIED:20230321T090931Z
STATUS:CONFIRMED
SUMMARY:OBS! Driftstörningar fjärrvärmeleverans i Väckelsång i dag tis
 dag 21/3. Beräknas vara klart till kl 16.00 !
URL;VALUE=URI:/sv/c/informationsruta/e/driftstorningar-fjarrvarmeleverans-i
 -vackelsang-i-dag-beraknas-vara-klart-till-kl-1600
END:VEVENT
BEGIN:VEVENT
DTSTAMP:20260419T202155Z
UID:32558@enode.site
DTSTART:20230312T230000Z
DTEND:20230414T220000Z
CLASS:PUBLIC
CREATED:20230313T101357Z
DESCRIPTION:
LAST-MODIFIED:20230313T101357Z
STATUS:CONFIRMED
SUMMARY:Grönt vatten ur kranen? Kontakta TEAB via kommunens växel 0477/44
 1 00 eller mejla Tingsrydsenergi@tingsryd.se!
URL;VALUE=URI:/sv/c/informationsruta/e/gront-vatten-ur-kranen-kontakta-teab
 -via-kommunens-vaxel-0477441-00-eller-mejla-tingsrydsenergitingsrydse
END:VEVENT
BEGIN:VEVENT
DTSTAMP:20260419T202155Z
UID:32593@enode.site
DTSTART:20230316T151000Z
DTEND:20230317T230000Z
CLASS:PUBLIC
CREATED:20230316T150243Z
DESCRIPTION:
LAST-MODIFIED:20230316T150243Z
STATUS:CONFIRMED
SUMMARY:OBS! Fredagen den 17/3 kommer vi att stänga av fjärrvärmeförsö
 rjningen i vissa delar av Urshult mellan kl 10.00-14.00!!
URL;VALUE=URI:/sv/c/informationsruta/e/obs-fredagen-den-173-kommer-vi-att-s
 tanga-av-fjarrvarmeforsorjningen-i-vissa-delar-av-urshult-mellan-kl-1000-1
 400
END:VEVENT
BEGIN:VEVENT
DTSTAMP:20260419T202155Z
UID:32648@enode.site
DTSTART:20230329T090200Z
DTEND:20230329T220000Z
CLASS:PUBLIC
CREATED:20230329T090208Z
DESCRIPTION:
LAST-MODIFIED:20230329T090208Z
STATUS:CONFIRMED
SUMMARY:OBS! Driftstörningar fjärrvärmeleverans i Linneryd i dag onsdag 
 29/3. Beräknas vara klart senast kl 16.00 !
URL;VALUE=URI:/sv/c/informationsruta/e/obs-driftstorningar-fjarrvarmelevera
 ns-i-linneryd-i-dag-onsdag-293-beraknas-vara-klart-senast-kl-1600
END:VEVENT
BEGIN:VEVENT
DTSTAMP:20260419T202155Z
UID:32917@enode.site
DTSTART:20230521T220000Z
DTEND:20230524T100000Z
CLASS:PUBLIC
CREATED:20230522T073625Z
DESCRIPTION:
LAST-MODIFIED:20230522T073625Z
STATUS:CONFIRMED
SUMMARY:OBS! Planerat avbrott i fjärrvärmeleveransen i stora delar av Tin
 gsryd onsdagen den 24/5 kl 08.00-11.00 !
URL;VALUE=URI:/sv/c/informationsruta/e/obs-planerat-avbrott-i-fjarrvarmelev
 eransen-i-stora-delar-av-tingsryd-onsdagen-den-245-kl-0800-1100
END:VEVENT
BEGIN:VEVENT
DTSTAMP:20260419T202155Z
UID:32918@enode.site
DTSTART:20230606T220000Z
DTEND:20230614T140000Z
CLASS:PUBLIC
CREATED:20230522T074856Z
DESCRIPTION:
LAST-MODIFIED:20230522T074856Z
STATUS:CONFIRMED
SUMMARY:OBS! Onsdagen den 14/6 kommer fjärrvärmeleveransen i Tingsryd att
  vara avstängd hela dagen kl 07.00-16.00!
URL;VALUE=URI:/sv/c/informationsruta/e/obs-onsdagen-den-146-kommer-fjarrvar
 meleveransen-i-tingsryd-att-vara-avstangd-hela-dagen-kl-0700-1600
END:VEVENT
BEGIN:VEVENT
DTSTAMP:20260419T202155Z
UID:33507@enode.site
DTSTART:20231005T220000Z
DTEND:20231010T100000Z
CLASS:PUBLIC
CREATED:20231003T104735Z
DESCRIPTION:
LAST-MODIFIED:20231003T104735Z
STATUS:CONFIRMED
SUMMARY:OBS! Avbrott i fjärrvärmeleveransen i vissa delar av Tingsryd tis
 dag 10/10 kl 08.00-12.00
URL;VALUE=URI:/sv/c/informationsruta/e/obs-avbrott-i-fjarrvarmeleveransen-i
 -vissa-delar-av-tingsryd-tisdag-1010-kl-0800-1200
END:VEVENT
BEGIN:VEVENT
DTSTAMP:20260419T202155Z
UID:34692@enode.site
DTSTART:20240703T220000Z
DTEND:20240818T220000Z
CLASS:PUBLIC
CREATED:20240704T055137Z
DESCRIPTION:
LAST-MODIFIED:20240704T055137Z
STATUS:CONFIRMED
SUMMARY:Glad sommar önskar vi alla våra kunder!
URL;VALUE=URI:/sv/c/informationsruta/e/glad-sommar-onskar-vi-alla-vara-kund
 er
END:VEVENT
BEGIN:VEVENT
DTSTAMP:20260419T202155Z
UID:36048@enode.site
DTSTART:20241113T230000Z
DTEND:20250227T230000Z
CLASS:PUBLIC
CREATED:20241114T145425Z
DESCRIPTION:
LAST-MODIFIED:20241114T145425Z
STATUS:CONFIRMED
SUMMARY:TEAB lämnar taxorna oförändrade under denna vinter !
URL;VALUE=URI:/sv/c/informationsruta/e/teab-lamnar-taxorna-oforandrade-unde
 r-denna-vinter
END:VEVENT
END:VCALENDAR
